BEGIN:VCALENDAR
VERSION:2.0
PRODID:-//Tenniskrant.be//www.tenniskrant.be//
X-WR-TIMEZONE:Europe/Brussels
X-WR-CALNAME:Kalender Grand Slam
X-WR-CALDESC:Kalender Grand Slam
BEGIN:VEVENT
UID:3745
DTSTAMP:20260424T095748Z
DTSTART;VALUE=DATE:20210830
DTEND;VALUE=DATE:20210912
SUMMARY:US Open ATP (Grand Slam)
URL:https://www.tenniskrant.be/grand-slam/us-open-atp/2021
DESCRIPTION:Alle nieuws en info over US Open ATP 2021 (Grand Slam).
https://www.tenniskrant.be/grand-slam/us-open-atp/2021

Schrijf je in op onze nieuwsbrief en ontvang het laatste nieuws per mail.
https://www.tenniskrant.be/nieuws/ontvangen
END:VEVENT
BEGIN:VEVENT
UID:3747
DTSTAMP:20260424T095748Z
DTSTART;VALUE=DATE:20210830
DTEND;VALUE=DATE:20210912
SUMMARY:US Open WTA (Grand Slam)
URL:https://www.tenniskrant.be/grand-slam/us-open-wta/2021
DESCRIPTION:Alle nieuws en info over US Open WTA 2021 (Grand Slam).
https://www.tenniskrant.be/grand-slam/us-open-wta/2021

Schrijf je in op onze nieuwsbrief en ontvang het laatste nieuws per mail.
https://www.tenniskrant.be/nieuws/ontvangen
END:VEVENT
END:VCALENDAR